BEGIN:VCALENDAR
VERSION:2.0
PRODID:-//Tukios.com/
BEGIN:VEVENT
UID:72397ef6-783a-447a-b664-e270b67fc6f1@obituaries.laurelhill-va.com
DTSTAMP:20260424T003414Z
DTSTART:20260427T160000Z
DTEND:20260427T200000Z
SUMMARY:Funeral Service
DESCRIPTION:
URL:https://obituaries.laurelhill-va.com/obituaries/alma-dapitin
LOCATION: 10127 Plank Road  Spotsylvania VA 22553
GEO:38.3164623;-77.6859121
END:VEVENT
END:VCALENDAR