BEGIN:VCALENDAR
VERSION:2.0
PRODID:-//Tukios.com/
BEGIN:VEVENT
UID:bea4de30-659d-4441-8bdb-a5b5f165b2d2@obituaries.laurelhill-va.com
DTSTAMP:20260420T210314Z
DTSTART:20260424T150000Z
DTEND:20260424T160000Z
SUMMARY:Funeral Service
DESCRIPTION:
URL:https://obituaries.laurelhill-va.com/obituaries/eileen-blain
LOCATION: 10127 Plank Road  Spotsylvania Courthouse VA 22553
GEO:38.3165671;-77.6859931
END:VEVENT
END:VCALENDAR