BEGIN:VCALENDAR
VERSION:2.0
PRODID:-//Tukios.com/
BEGIN:VEVENT
UID:5d136090-2954-459c-a3f0-bf998b5fe1eb@obituaries.laurelhill-va.com
DTSTAMP:20260420T205819Z
DTSTART:20260424T160000Z
DTEND:20260424T163000Z
SUMMARY:Interment
DESCRIPTION:
URL:https://obituaries.laurelhill-va.com/obituaries/eileen-blain
LOCATION: 10127 Plank Road  Spotsylvania Courthouse VA 22553
GEO:38.3165671;-77.6859931
END:VEVENT
END:VCALENDAR